BEGIN:VCALENDAR
VERSION:2.0
PRODID:-//wp-events-plugin.com//7.2.3.1//EN
BEGIN:VEVENT
UID:93@fundacionellacuria.org
DTSTART:20260606T000000Z
DTEND:20260606T235900Z
DTSTAMP:20260420T095855Z
URL:https://fundacionellacuria.org/events/aniversario-del-freewinds/
SUMMARY:Aniversario del Freewinds
DESCRIPTION:Cada junio\, los scientologists más avanzados se reúnen a bor
 do del barco Freewinds para conmemorar su viaje inaugural y acceder a los 
 niveles espirituales más elevados de la tradición
CATEGORIES:Cienciología
END:VEVENT
END:VCALENDAR