BEGIN:VCALENDAR
VERSION:2.0
PRODID:-//wp-events-plugin.com//7.2.3.1//EN
BEGIN:VEVENT
UID:72@fundacionellacuria.org
DTSTART:20260414T000000Z
DTEND:20260414T235900Z
DTSTAMP:20260327T135046Z
URL:https://fundacionellacuria.org/events/ano-nuevo-hindu-1948-nava-varsha
 /
SUMMARY:Año nuevo hindú 1948 (Nava Varsha)
DESCRIPTION:Marca el inicio del año a partir del calendario solar hindú\,
  centrado en el movimiento del sol a través de las estacione...
CATEGORIES:Año nuevo
END:VEVENT
END:VCALENDAR