BEGIN:VCALENDAR
VERSION:2.0
PRODID:-//wp-events-plugin.com//7.2.3.1//EN
BEGIN:VEVENT
UID:137@fundacionellacuria.org
DTSTART:20261031T000000Z
DTEND:20261031T235900Z
DTSTAMP:20260327T135052Z
URL:https://fundacionellacuria.org/events/dia-de-la-reforma/
SUMMARY:Dia de la Reforma
DESCRIPTION:Conmemora la publicación de las 95 tesis de Martín Lutero en 
 1517\, que inició la Reforma Protestante
CATEGORIES:Cristianismo
END:VEVENT
END:VCALENDAR