BEGIN:VCALENDAR
VERSION:2.0
PRODID:-//wp-events-plugin.com//7.2.3.1//EN
BEGIN:VEVENT
UID:87@fundacionellacuria.org
DTSTART:20260526T000000Z
DTEND:20260526T235900Z
DTSTAMP:20260327T135048Z
URL:https://fundacionellacuria.org/events/eid-al-adha-fiesta-del-sacrifici
 o/
SUMMARY:Eid Al Adha (Fiesta del Sacrificio)
DESCRIPTION:Fiesta del sacrificio que marca el final de la peregrinación a
  La Meca\, conmemorando el sacrificio de Ibrahim.
CATEGORIES:Islam
END:VEVENT
END:VCALENDAR