BEGIN:VCALENDAR
VERSION:2.0
PRODID:-//wp-events-plugin.com//7.2.3.1//EN
BEGIN:VEVENT
UID:147@fundacionellacuria.org
DTSTART:20261121T000000Z
DTEND:20261121T235900Z
DTSTAMP:20260420T101754Z
URL:https://fundacionellacuria.org/?post_type=event&p=211253
SUMMARY:Entrada de la Virgen a Maria en el Templo
DESCRIPTION:conmemora cuando María\, siendo niña\, fue llevada al Templo 
 de Jerusalén por sus padres
CATEGORIES:Cristianismo
END:VEVENT
END:VCALENDAR