BEGIN:VCALENDAR
VERSION:2.0
PRODID:-//wp-events-plugin.com//7.2.3.1//EN
BEGIN:VEVENT
UID:92@fundacionellacuria.org
DTSTART:20260605T000000Z
DTEND:20260605T235900Z
DTSTAMP:20260327T135048Z
URL:https://fundacionellacuria.org/events/nacimiento-de-padmasambhava-guru
 -rinpoche/
SUMMARY:Nacimiento de Padmasambhava (Guru Rinpoché)
DESCRIPTION:Día conmemorativo del nacimiento de Padmasambhava (Guru Rinpoc
 hé)\, figura clave del budismo tibetano y referente espirit...
CATEGORIES:Budismo
END:VEVENT
END:VCALENDAR