BEGIN:VCALENDAR
VERSION:2.0
PRODID:-//wp-events-plugin.com//7.2.3.1//EN
BEGIN:VEVENT
UID:68@fundacionellacuria.org
DTSTART:20260410T000000Z
DTEND:20260410T235900Z
DTSTAMP:20260420T101755Z
URL:https://fundacionellacuria.org/?post_type=event&p=211174
SUMMARY:Viernes Santo
DESCRIPTION:Día en el que se recuerda la crucifixión de Jesús\, momento 
 clave en la fe cristiana
CATEGORIES:Cristianismo
END:VEVENT
END:VCALENDAR